Workbook

Sheet KOPT
C1: APSTIPRINU
C3: __________________________
C4: (pasūtītāja paraksts un tā atšifrējums)
C7: Z.v.
C9: 2026.gada ___. _____________
A12: Būvniecības koptāme
A17: Būves nosaukums: | B17: =KOPS1!C12 -> Defktu novēršana un objekta nodošana ekspluatācijā Ziedu un Parka ielās; BIS-BL-371489-1798
A18: Būves adrese: | B18: =KOPS1!C14 -> Upesciems, Ropažu novads; 80600110127; 80600110152
A19: Pasūtījuma Nr.: | B19: =KOPS1!C15 -> 1
C23: =KOPS1!F21 -> Tāme sastādīta 2026. gadā
A24: Nr. p.k. | B24: Objekta nosaukums | C24: Objekta izmaksas (euro)
A26: =A25+1 -> 1 | B26: =KOPS1!C13 -> Defktu novēršana un objekta nodošana ekspluatācijā Ziedu un Parka ielās; BIS-BL-371489-1798 | C26: =KOPS1!E31 -> 0
A28: Kopā, bez PVN | C28: =SUM(C26:C27) -> 0
A30: PVN, 21% | C30: =ROUND(C28*21%,2) -> 0
A31: SUMMA kopā ar PVN | C31: =C28+C30 -> 0

Sheet KOPS1
A4: Kopsavilkuma aprēķins
A7: =C12 -> Defktu novēršana un objekta nodošana ekspluatācijā Ziedu un Parka ielās; BIS-BL-371489-1798
A8: (Darba veids vai konstruktīvā elementa nosaukums)
A12: Būves nosaukums: | C12: Defktu novēršana un objekta nodošana ekspluatācijā Ziedu un Parka ielās; BIS-BL-371489-1798
A13: Objekta nosaukums: | C13: =C12 -> Defktu novēršana un objekta nodošana ekspluatācijā Ziedu un Parka ielās; BIS-BL-371489-1798
A14: Objekta adrese: | C14: Upesciems, Ropažu novads; 80600110127; 80600110152
A15: Pasūtījuma Nr.: | C15: 1
C18: =E31 -> 0
C20: =I27 -> 0
F21: Tāme sastādīta 2026. gadā
A23: Nr. p.k. | B23: Kods, tāmes Nr. | C23: Darba veids vai konstruktīvā elementa nosaukums | E23: Tāmes izmaksas (euro) | F23: Tai skaitā | I23: Darbietilpība (c/h)
F24: Darba alga (euro) | G24: Materiāli (euro) | H24: Mehānismi (euro)
A25: 1 | B25: 1-1 | C25: =CD!A4 -> Teritorijas sadaļa, ceļa darbi | D25: TS-CD | E25: =CD!P25 -> 0 | F25: =CD!M25 -> 0 | G25: =CD!N25 -> 0 | H25: =CD!O25 -> 0 | I25: =CD!L25 -> 0
A27: Kopā | E27: =SUM(E25:E25) -> 0 | F27: =SUM(F25:F26) -> 0 | G27: =SUM(G25:G26) -> 0 | H27: =SUM(H25:H26) -> 0 | I27: =SUM(I25:I26) -> 0
A28: Virsizdevumi | E28: =ROUND(E27*D28,2) -> 0
A29: t.sk. darba aizsardzība | E29: =ROUND(E28*D29,2) -> 0
A30: Peļņa | E30: =ROUND(E27*D30,2) -> 0
A31: Pavisam kopā | E31: =E27+E28+E30 -> 0

Sheet CD
A1: Lokāltāme Nr. 1-1
A4: Teritorijas sadaļa, ceļa darbi
A5: (Darba veids vai konstruktīvā elementa nosaukums)
A9: Būves nosaukums: | C9: =KOPT!B17 -> Defktu novēršana un objekta nodošana ekspluatācijā Ziedu un Parka ielās; BIS-BL-371489-1798
A10: Objekta nosaukums: | C10: =C9 -> Defktu novēršana un objekta nodošana ekspluatācijā Ziedu un Parka ielās; BIS-BL-371489-1798
A11: Objekta adrese: | C11: =KOPS1!C14 -> Upesciems, Ropažu novads; 80600110127; 80600110152
A12: Pasūtījuma Nr.: | C12: =KOPS1!C15 -> 1
L16: =KOPS1!E21 -> 0
A17: Tāme sastādīta balstoties uz 2026.gada tirgus cenām. | M17: =KOPT!C23 -> Tāme sastādīta 2026. gadā
A18: Nr. p.k. | B18: Kods | C18: Darba nosaukums | D18: Mērvienība | E18: Daudzums | F18: Vienības izmaksas | L18: Kopā uz visu apjomu
F19: laika norma (c/h) | G19: darba samaksas likme (euro /h) | H19: darba alga (euro) | I19: materiāli (euro) | J19: mehānismi (euro) | K19: Kopā (euro) | L19: darbietilpība (c/h) | M19: darba alga (euro) | N19: materiāli (euro) | O19: mehānismi (euro) | P19: summa (euro)
A20: 1 | B20: 2 | C20: 3 | D20: 4 | E20: 5 | F20: 6 | G20: 7 | H20: 8 | I20: 9 | J20: 10 | K20: 11 | L20: 12 | M20: 13 | N20: 14 | O20: 15 | P20: 16
A21: 2 | B21: --- | C21: Plaisu aizpildīšana brauktuves asfaltbetona segumā | D21: m | E21: 6 | K21: =H21+I21+J21 -> 0 | L21: =ROUND(F21*E21,2) -> 0 | M21: =ROUND(H21*E21,2) -> 0 | N21: =ROUND(I21*E21,2) -> 0 | O21: =ROUND(J21*E21,2) -> 0 | P21: =ROUND(M21+N21+O21,2) -> 0
A22: 3 | B22: --- | C22: Aku vāku regulēšana/labošana | D22: gab | E22: 9 | K22: =H22+I22+J22 -> 0 | L22: =ROUND(F22*E22,2) -> 0 | M22: =ROUND(H22*E22,2) -> 0 | N22: =ROUND(I22*E22,2) -> 0 | O22: =ROUND(J22*E22,2) -> 0 | P22: =ROUND(M22+N22+O22,2) -> 0
A23: 4 | B23: --- | C23: Izpilduzmērijumu plāna izstrāde visā objekta zonā un saskaņošana MDC | D23: kompl. | E23: 1 | K23: =H23+I23+J23 -> 0 | L23: =ROUND(F23*E23,2) -> 0 | M23: =ROUND(H23*E23,2) -> 0 | N23: =ROUND(I23*E23,2) -> 0 | O23: =ROUND(J23*E23,2) -> 0 | P23: =ROUND(M23+N23+O23,2) -> 0
A24: 5 | B24: --- | C24: Objekta nodošana ekspluatācijā un novērsto defektu garantija: 36 mēneši | D24: kompl. | E24: 1 | K24: =H24+I24+J24 -> 0 | L24: =ROUND(F24*E24,2) -> 0 | M24: =ROUND(H24*E24,2) -> 0 | N24: =ROUND(I24*E24,2) -> 0 | O24: =ROUND(J24*E24,2) -> 0 | P24: =ROUND(M24+N24+O24,2) -> 0
A25: Tiešās izmaksas kopā, t. sk. darba devēja sociālais nodoklis (23.59%) : | K25: =SUM(K21:K24) -> 0 | L25: =SUM(L21:L24) -> 0 | M25: =SUM(M21:M24) -> 0 | N25: =SUM(N21:N24) -> 0 | O25: =SUM(O21:O24) -> 0 | P25: =SUM(P21:P24) -> 0
